BEGIN:VCALENDAR
VERSION:2.0
PRODID:-//Halton - ECPv6.15.16//NONSGML v1.0//EN
CALSCALE:GREGORIAN
METHOD:PUBLISH
X-ORIGINAL-URL:https://thehaltoncommunity.org
X-WR-CALDESC:Events for Halton
REFRESH-INTERVAL;VALUE=DURATION:PT1H
X-Robots-Tag:noindex
X-PUBLISHED-TTL:PT1H
BEGIN:VTIMEZONE
TZID:UTC
BEGIN:STANDARD
TZOFFSETFROM:+0000
TZOFFSETTO:+0000
TZNAME:UTC
DTSTART:20240101T000000
END:STANDARD
END:VTIMEZONE
BEGIN:VEVENT
DTSTART;VALUE=DATE:20250503
DTEND;VALUE=DATE:20250504
DTSTAMP:20260425T173445
CREATED:20250823T110502Z
LAST-MODIFIED:20250823T111002Z
UID:4878-1746230400-1746316799@thehaltoncommunity.org
SUMMARY:Tulip trip to Niagara
DESCRIPTION:
URL:https://thehaltoncommunity.org/event/tulip-trip-to-nigara/
ATTACH;FMTTYPE=image/jpeg:https://thehaltoncommunity.org/wp-content/uploads/2025/08/PHOTO-2025-08-19-15-15-12.jpg
END:VEVENT
BEGIN:VEVENT
DTSTART;VALUE=DATE:20250503
DTEND;VALUE=DATE:20250817
DTSTAMP:20260425T173445
CREATED:20250823T122519Z
LAST-MODIFIED:20250823T122616Z
UID:4896-1746230400-1755388799@thehaltoncommunity.org
SUMMARY:Yoga Meditation
DESCRIPTION:
URL:https://thehaltoncommunity.org/event/yoga-meditation/
ATTACH;FMTTYPE=image/jpeg:https://thehaltoncommunity.org/wp-content/uploads/2025/08/image1-2.jpeg
END:VEVENT
BEGIN:VEVENT
DTSTART;VALUE=DATE:20250524
DTEND;VALUE=DATE:20250525
DTSTAMP:20260425T173445
CREATED:20250505T113155Z
LAST-MODIFIED:20250505T113247Z
UID:4849-1748044800-1748131199@thehaltoncommunity.org
SUMMARY:South Asian Heritage
DESCRIPTION:
URL:https://thehaltoncommunity.org/event/south-asian-heritage-2/
LOCATION:ST. VOLODYMYR CULTURAL CENTRE 1280 Dundas St W\, Oakville\, ON L6M 4H9
ATTACH;FMTTYPE=image/jpeg:https://thehaltoncommunity.org/wp-content/uploads/2025/05/WhatsApp-Image-2025-05-02-at-10.13.18-PM.jpeg
END:VEVENT
BEGIN:VEVENT
DTSTART;VALUE=DATE:20250524
DTEND;VALUE=DATE:20250525
DTSTAMP:20260425T173445
CREATED:20250823T124100Z
LAST-MODIFIED:20250823T124100Z
UID:4898-1748044800-1748131199@thehaltoncommunity.org
SUMMARY:Heritage month celebration May 24
DESCRIPTION:
URL:https://thehaltoncommunity.org/event/heritage-month-celebration-may-24/
ATTACH;FMTTYPE=image/jpeg:https://thehaltoncommunity.org/wp-content/uploads/2025/08/PHOTO-2025-08-19-15-21-04_4.jpg
END:VEVENT
END:VCALENDAR