BEGIN:VCALENDAR
VERSION:2.0
PRODID:-//Halton - ECPv6.15.16//NONSGML v1.0//EN
CALSCALE:GREGORIAN
METHOD:PUBLISH
X-WR-CALNAME:Halton
X-ORIGINAL-URL:https://thehaltoncommunity.org
X-WR-CALDESC:Events for Halton
REFRESH-INTERVAL;VALUE=DURATION:PT1H
X-Robots-Tag:noindex
X-PUBLISHED-TTL:PT1H
BEGIN:VTIMEZONE
TZID:UTC
BEGIN:STANDARD
TZOFFSETFROM:+0000
TZOFFSETTO:+0000
TZNAME:UTC
DTSTART:20230101T000000
END:STANDARD
END:VTIMEZONE
BEGIN:VEVENT
DTSTART;TZID=UTC:20241012T080000
DTEND;TZID=UTC:20241012T180000
DTSTAMP:20260421T113737
CREATED:20240807T161900Z
LAST-MODIFIED:20240807T163322Z
UID:4691-1728720000-1728756000@thehaltoncommunity.org
SUMMARY:Bus Trip to Muskoka
DESCRIPTION:
URL:https://thehaltoncommunity.org/event/bus-trip-to-muskoka/
CATEGORIES:Trip
ATTACH;FMTTYPE=image/jpeg:https://thehaltoncommunity.org/wp-content/uploads/2024/08/MuskokaBusTrip_070824.jpeg
END:VEVENT
BEGIN:VEVENT
DTSTART;TZID=UTC:20240831T083000
DTEND;TZID=UTC:20240831T170000
DTSTAMP:20260421T113737
CREATED:20240807T163225Z
LAST-MODIFIED:20240807T163240Z
UID:4697-1725093000-1725123600@thehaltoncommunity.org
SUMMARY:Ladies Bus Trip
DESCRIPTION:
URL:https://thehaltoncommunity.org/event/ladies-bus-trip/
CATEGORIES:Trip
ATTACH;FMTTYPE=image/jpeg:https://thehaltoncommunity.org/wp-content/uploads/2024/08/image0_070824.jpeg
END:VEVENT
END:VCALENDAR