BEGIN:VCALENDAR
VERSION:2.0
PRODID:-//Halton - ECPv6.15.16//NONSGML v1.0//EN
CALSCALE:GREGORIAN
METHOD:PUBLISH
X-ORIGINAL-URL:https://thehaltoncommunity.org
X-WR-CALDESC:Events for Halton
REFRESH-INTERVAL;VALUE=DURATION:PT1H
X-Robots-Tag:noindex
X-PUBLISHED-TTL:PT1H
BEGIN:VTIMEZONE
TZID:UTC
BEGIN:STANDARD
TZOFFSETFROM:+0000
TZOFFSETTO:+0000
TZNAME:UTC
DTSTART:20240101T000000
END:STANDARD
END:VTIMEZONE
BEGIN:VEVENT
DTSTART;TZID=UTC:20250913T070000
DTEND;TZID=UTC:20250913T203000
DTSTAMP:20260425T130417
CREATED:20250930T093849Z
LAST-MODIFIED:20250930T093928Z
UID:5063-1757746800-1757795400@thehaltoncommunity.org
SUMMARY:Adult Bus Trip : Huntsville- Muskoka
DESCRIPTION:
URL:https://thehaltoncommunity.org/event/adult-bus-trip-huntsville-muskoka/
END:VEVENT
END:VCALENDAR