BEGIN:VCALENDAR
VERSION:2.0
PRODID:-//Halton - ECPv6.15.16//NONSGML v1.0//EN
CALSCALE:GREGORIAN
METHOD:PUBLISH
X-WR-CALNAME:Halton
X-ORIGINAL-URL:https://thehaltoncommunity.org
X-WR-CALDESC:Events for Halton
REFRESH-INTERVAL;VALUE=DURATION:PT1H
X-Robots-Tag:noindex
X-PUBLISHED-TTL:PT1H
BEGIN:VTIMEZONE
TZID:UTC
BEGIN:STANDARD
TZOFFSETFROM:+0000
TZOFFSETTO:+0000
TZNAME:UTC
DTSTART:20200101T000000
END:STANDARD
END:VTIMEZONE
BEGIN:VEVENT
DTSTART;VALUE=DATE:20210104
DTEND;VALUE=DATE:20210129
DTSTAMP:20260422T000929
CREATED:20220131T165109Z
LAST-MODIFIED:20220211T011630Z
UID:3811-1609718400-1611878399@thehaltoncommunity.org
SUMMARY:Knowledge sharing presentations
DESCRIPTION:We had a very inspiring & informative knowledge sharing sessions by various Halton Region Experts and Overseas Guests such as Dr. Nikita Sheth (Family Physician)\, Alka Trivedi (Motivational Speaker)\, Nilesh Patel (Devotional & Bollywood singer) and Sanjo Pawa (Registered Optician). \nHCCA is thankful to them for their support.
URL:https://thehaltoncommunity.org/event/knowledgeable-presentation/
ATTACH;FMTTYPE=image/jpeg:https://thehaltoncommunity.org/wp-content/uploads/2022/01/jan-21.jpg
END:VEVENT
END:VCALENDAR